BEGIN:VCALENDAR
VERSION:2.0
PRODID:spatie/icalendar-generator
DESCRIPTION:Events from French Cellar
X-WR-CALDESC:Events from French Cellar
REFRESH-INTERVAL;VALUE=DURATION:PT1440M
X-PUBLISHED-TTL:PT1440M
BEGIN:VTIMEZONE
TZID:Etc/GMT+0
BEGIN:STANDARD
DTSTART:20250602T183000Z
TZOFFSETFROM:+0000
TZOFFSETTO:+0000
END:STANDARD
END:VTIMEZONE
BEGIN:VTIMEZONE
TZID:UTC
BEGIN:STANDARD
DTSTART:20250724T081912Z
TZOFFSETFROM:+0000
TZOFFSETTO:+0000
END:STANDARD
END:VTIMEZONE
BEGIN:VEVENT
UID:60-54
DTSTAMP:20260420T081912Z
SUMMARY:Tour de France
LOCATION:
ORGANIZER;CN=General Admin:MAILTO:nitesh@rutlandwebdesigner.co.uk
DTSTART;TZID=Etc/GMT+0:20260227T183000
DTEND;TZID=Etc/GMT+0:20260227T193000
X-ALT-DESC;FMTTYPE=TEXT/HTML:
CATEGORIES:General
URL;VALUE=URI:https://frenchcellar.co.uk/mc-events/tour-de-france-6/
METHOD:PUBLISH
END:VEVENT
END:VCALENDAR