BEGIN:VCALENDAR
VERSION:2.0
PRODID:spatie/icalendar-generator
DESCRIPTION:Events from French Cellar
X-WR-CALDESC:Events from French Cellar
REFRESH-INTERVAL;VALUE=DURATION:PT1440M
X-PUBLISHED-TTL:PT1440M
BEGIN:VTIMEZONE
TZID:Etc/GMT+0
BEGIN:STANDARD
DTSTART:20240902T183000Z
TZOFFSETFROM:+0000
TZOFFSETTO:+0000
END:STANDARD
END:VTIMEZONE
BEGIN:VTIMEZONE
TZID:UTC
BEGIN:STANDARD
DTSTART:20250724T082008Z
TZOFFSETFROM:+0000
TZOFFSETTO:+0000
END:STANDARD
END:VTIMEZONE
BEGIN:VEVENT
UID:23-21
DTSTAMP:20260420T082008Z
SUMMARY:Provence Tasting
LOCATION:
ORGANIZER;CN=General Admin:MAILTO:nitesh@rutlandwebdesigner.co.uk
DTSTART;TZID=Etc/GMT+0:20250530T183000
DTEND;TZID=Etc/GMT+0:20250530T210000
X-ALT-DESC;FMTTYPE=TEXT/HTML:<p>What do our amazing Provence Tasting includ
 e?</p>\n<ul>\n<li>5 Wines exploring the PROVENCE region</li>\n<li>A guide 
 to each wine\, their grapes and which foods they pair best with</li>\n<li>
 A wonderful selection of cheeses &amp;amp\; charcuterie to compliment</li>\nExclusive in store offers</li>\n<li>Limited to 12 seats making it a more
  intimate affair</li>\n</ul>\n<p>These events are charged at only £45 per
  person.</p>\n<p>Press the button below to register interest for this even
 t.</p>\n<p>PLEASE NOTE: Most dates are already half full so please be quic
 k to register so we can make confirm your seat over the coming week.*</p>\
 n<p><a href="https://forms.gle/SZdZTxx3GeCy3zdQ8" class="register_btn" target="_blank">Register Now</a></p>\n
CATEGORIES:General
URL;VALUE=URI:https://frenchcellar.co.uk/mc-events/provence-tasting-3/
METHOD:PUBLISH
END:VEVENT
END:VCALENDAR